BEGIN:VCALENDAR
VERSION:2.0
PRODID:-//TYPO3/NONSGML News system (news)//EN
CALSCALE:GREGORIAN
METHOD:PUBLISH
BEGIN:VEVENT
UID:news-108403@huettenberg.at

DTSTAMP:20260421T105146Z



DTSTART;TZID=Europe/Vienna:20260719T000000
DTEND;TZID=Europe/Vienna:20260719T000000

SUMMARY:4. Schnitzelkirchtag
DESCRIPTION:

LOCATION:Umschadengarten Hüttenberg


END:VEVENT
END:VCALENDAR
