BEGIN:VCALENDAR
VERSION:2.0
PRODID:-//TYPO3/NONSGML News system (news)//EN
CALSCALE:GREGORIAN
METHOD:PUBLISH
BEGIN:VEVENT
UID:news-112835@huettenberg.at

DTSTAMP:20260421T105842Z



DTSTART;TZID=Europe/Vienna:20261204T170000
DTEND;TZID=Europe/Vienna:20261204T000000

SUMMARY:Barbarafeier
DESCRIPTION:

LOCATION:Stollen Schaubergwerk Knappenberg


END:VEVENT
END:VCALENDAR
