BEGIN:VCALENDAR
VERSION:2.0
PRODID:-//TYPO3/NONSGML News system (news)//EN
CALSCALE:GREGORIAN
METHOD:PUBLISH
BEGIN:VEVENT
UID:news-49612@huettenberg.at

DTSTAMP:20260421T105218Z



DTSTART;TZID=Europe/Vienna:20241224T000000
DTEND;TZID=Europe/Vienna:20241224T000000

SUMMARY:Friedenslichtaktion
DESCRIPTION:

LOCATION:Rüsthäuser Hüttenberg, Knappenberg und Lölling


END:VEVENT
END:VCALENDAR
