BEGIN:VCALENDAR
VERSION:2.0
PRODID:-//TYPO3/NONSGML News system (news)//EN
CALSCALE:GREGORIAN
METHOD:PUBLISH
BEGIN:VEVENT
UID:news-78942@huettenberg.at

DTSTAMP:20260420T102820Z



DTSTART;TZID=Europe/Vienna:20250430T000000
DTEND;TZID=Europe/Vienna:20250430T000000

SUMMARY:Maibaumaufstellen
DESCRIPTION:mit Mai-Feier

LOCATION:Marktplatz Hüttenberg


END:VEVENT
END:VCALENDAR
